BEGIN:VCALENDAR
VERSION:2.0
PRODID:-//Alabama Beams - ECPv6.15.16//NONSGML v1.0//EN
CALSCALE:GREGORIAN
METHOD:PUBLISH
X-ORIGINAL-URL:https://beamsal.com
X-WR-CALDESC:Events for Alabama Beams
REFRESH-INTERVAL;VALUE=DURATION:PT1H
X-Robots-Tag:noindex
X-PUBLISHED-TTL:PT1H
BEGIN:VTIMEZONE
TZID:America/Chicago
BEGIN:DAYLIGHT
TZOFFSETFROM:-0600
TZOFFSETTO:-0500
TZNAME:CDT
DTSTART:20190310T080000
END:DAYLIGHT
BEGIN:STANDARD
TZOFFSETFROM:-0500
TZOFFSETTO:-0600
TZNAME:CST
DTSTART:20191103T070000
END:STANDARD
BEGIN:DAYLIGHT
TZOFFSETFROM:-0600
TZOFFSETTO:-0500
TZNAME:CDT
DTSTART:20200308T080000
END:DAYLIGHT
BEGIN:STANDARD
TZOFFSETFROM:-0500
TZOFFSETTO:-0600
TZNAME:CST
DTSTART:20201101T070000
END:STANDARD
BEGIN:DAYLIGHT
TZOFFSETFROM:-0600
TZOFFSETTO:-0500
TZNAME:CDT
DTSTART:20210314T080000
END:DAYLIGHT
BEGIN:STANDARD
TZOFFSETFROM:-0500
TZOFFSETTO:-0600
TZNAME:CST
DTSTART:20211107T070000
END:STANDARD
END:VTIMEZONE
BEGIN:VEVENT
DTSTART;TZID=America/Chicago:20200901T140000
DTEND;TZID=America/Chicago:20200901T150000
DTSTAMP:20260423T092743
CREATED:20200331T182234Z
LAST-MODIFIED:20200331T182234Z
UID:742-1598968800-1598972400@beamsal.com
SUMMARY:North Alabama Human Trafficking Task Force Meeting
DESCRIPTION:Meets monthly on the first Tuesday. Free to attend; open to the public.
URL:https://beamsal.com/event/north-alabama-human-trafficking-task-force-meeting-7/
LOCATION:Can You See Me?
END:VEVENT
BEGIN:VEVENT
DTSTART;TZID=America/Chicago:20200918T133000
DTEND;TZID=America/Chicago:20200918T143000
DTSTAMP:20260423T092743
CREATED:20200827T230312Z
LAST-MODIFIED:20200827T230312Z
UID:791-1600435800-1600439400@beamsal.com
SUMMARY:Alabama Human Trafficking Task Force meeting
DESCRIPTION:The quarterly meeting of the state human trafficking task force.  All are welcome
URL:https://beamsal.com/event/alabama-human-trafficking-task-force-meeting/
END:VEVENT
BEGIN:VEVENT
DTSTART;TZID=America/Chicago:20200919T080000
DTEND;TZID=America/Chicago:20200919T140000
DTSTAMP:20260423T092743
CREATED:20200617T211045Z
LAST-MODIFIED:20200617T211045Z
UID:768-1600502400-1600524000@beamsal.com
SUMMARY:HoldtheFort 5k/10k
DESCRIPTION:
URL:https://beamsal.com/event/holdthefort-5k-10k/
LOCATION:Oak Mountain State Park\, 200 Terrace Drive\, Pelham\, AL\, 35124\, United States
ORGANIZER;CN="Blanket Fort Hope":MAILTO:Alexa@blanketforthope.org
END:VEVENT
BEGIN:VEVENT
DTSTART;TZID=America/Chicago:20200919T080000
DTEND;TZID=America/Chicago:20200919T170000
DTSTAMP:20260423T092743
CREATED:20200219T214852Z
LAST-MODIFIED:20200219T214852Z
UID:734-1600502400-1600534800@beamsal.com
SUMMARY:Blanket Fort Hope 5k\, Hold the Fort Run
DESCRIPTION:
URL:https://beamsal.com/event/blanket-fort-hope-5k-hold-the-fort-run/
ORGANIZER;CN="Blanket Fort Hope":MAILTO:Alexa@blanketforthope.org
END:VEVENT
END:VCALENDAR